BEGIN:VCALENDAR
VERSION:2.0
PRODID:-//Union Street Market - ECPv6.0.12//NONSGML v1.0//EN
CALSCALE:GREGORIAN
METHOD:PUBLISH
X-ORIGINAL-URL:https://www.unionstreetmarket.org
X-WR-CALDESC:Events for Union Street Market
REFRESH-INTERVAL;VALUE=DURATION:PT1H
X-Robots-Tag:noindex
X-PUBLISHED-TTL:PT1H
BEGIN:VTIMEZONE
TZID:America/Indiana/Indianapolis
BEGIN:DAYLIGHT
TZOFFSETFROM:-0500
TZOFFSETTO:-0400
TZNAME:EDT
DTSTART:20240310T070000
END:DAYLIGHT
BEGIN:STANDARD
TZOFFSETFROM:-0400
TZOFFSETTO:-0500
TZNAME:EST
DTSTART:20241103T060000
END:STANDARD
END:VTIMEZONE
BEGIN:VEVENT
DTSTART;TZID=America/Indiana/Indianapolis:20241201T100000
DTEND;TZID=America/Indiana/Indianapolis:20241201T160000
DTSTAMP:20260421T065947
CREATED:20241107T230044Z
LAST-MODIFIED:20241107T232741Z
UID:10002427-1733047200-1733068800@www.unionstreetmarket.org
SUMMARY:Holiday Artisan Market '24
DESCRIPTION:You are invited to the 3rd Annual Holiday Artisan Market\, one of Fort Wayne’s leading multi-weekend seasonal markets highlighting the region’s best handcrafted\, homemade & homegrown products. In 2023\, the market averaged over 1\,200 visitors each weekend bringing in a steady stream of patrons each Saturday & Sunday. Ft. Wayne’s Farmers Market has now moved indoors\, this will be a new aspect for not only Union Street Market\, but a new addition to our Holiday Artisan Market options. Their presence will make our retail shopping a more well-rounded experience with artisan wares\, but also produce\, plants\, meats\, baked goods & more. \n \nHoliday Artisan Market  \nWeekends 11/30-12/22 | 10AM – 4PM Saturdays & Sundays
URL:https://www.unionstreetmarket.org/event/holiday-artisan-market-24-4/2024-12-01/
LOCATION:The Arcade at Union Street Market\, 1620 Broadway\, Fort Wayne\, IN\, 46802\, United States
ATTACH;FMTTYPE=image/jpeg:https://www.unionstreetmarket.org/wp-content/uploads/2024/10/Holiday-Market.jpg
END:VEVENT
BEGIN:VEVENT
DTSTART;TZID=America/Indiana/Indianapolis:20241201T100000
DTEND;TZID=America/Indiana/Indianapolis:20241201T160000
DTSTAMP:20260421T065947
CREATED:20241212T204225Z
LAST-MODIFIED:20241212T204225Z
UID:10002449-1733047200-1733068800@www.unionstreetmarket.org
SUMMARY:Holiday Artisan Market '24
DESCRIPTION:You are invited to the 3rd Annual Holiday Artisan Market\, one of Fort Wayne’s leading multi-weekend seasonal markets highlighting the region’s best handcrafted\, homemade & homegrown products. In 2023\, the market averaged over 1\,200 visitors each weekend bringing in a steady stream of patrons each Saturday & Sunday. Ft. Wayne’s Farmers Market has now moved indoors\, this will be a new aspect for not only Union Street Market\, but a new addition to our Holiday Artisan Market options. Their presence will make our retail shopping a more well-rounded experience with artisan wares\, but also produce\, plants\, meats\, baked goods & more. \n \nHoliday Artisan Market  \nWeekends 11/30-12/22 | 10AM – 4PM Saturdays & Sundays
URL:https://www.unionstreetmarket.org/event/holiday-artisan-market-24-2/
LOCATION:The Arcade at Union Street Market\, 1620 Broadway\, Fort Wayne\, IN\, 46802\, United States
ATTACH;FMTTYPE=image/jpeg:https://www.unionstreetmarket.org/wp-content/uploads/2024/10/Holiday-Market.jpg
END:VEVENT
BEGIN:VEVENT
DTSTART;TZID=America/Indiana/Indianapolis:20241201T100000
DTEND;TZID=America/Indiana/Indianapolis:20241201T160000
DTSTAMP:20260421T065947
CREATED:20241212T205929Z
LAST-MODIFIED:20241212T205929Z
UID:10002450-1733047200-1733068800@www.unionstreetmarket.org
SUMMARY:Holiday Artisan Market '24
DESCRIPTION:You are invited to the 3rd Annual Holiday Artisan Market\, one of Fort Wayne’s leading multi-weekend seasonal markets highlighting the region’s best handcrafted\, homemade & homegrown products. In 2023\, the market averaged over 1\,200 visitors each weekend bringing in a steady stream of patrons each Saturday & Sunday. Ft. Wayne’s Farmers Market has now moved indoors\, this will be a new aspect for not only Union Street Market\, but a new addition to our Holiday Artisan Market options. Their presence will make our retail shopping a more well-rounded experience with artisan wares\, but also produce\, plants\, meats\, baked goods & more. \n \nHoliday Artisan Market  \nWeekends 11/30-12/22 | 10AM – 4PM Saturdays & Sundays
URL:https://www.unionstreetmarket.org/event/holiday-artisan-market-24-3/
LOCATION:The Arcade at Union Street Market\, 1620 Broadway\, Fort Wayne\, IN\, 46802\, United States
ATTACH;FMTTYPE=image/jpeg:https://www.unionstreetmarket.org/wp-content/uploads/2024/10/Holiday-Market.jpg
END:VEVENT
BEGIN:VEVENT
DTSTART;TZID=America/Indiana/Indianapolis:20241207T100000
DTEND;TZID=America/Indiana/Indianapolis:20241207T160000
DTSTAMP:20260421T065947
CREATED:20241107T230044Z
LAST-MODIFIED:20241107T232741Z
UID:10002436-1733565600-1733587200@www.unionstreetmarket.org
SUMMARY:Holiday Artisan Market '24
DESCRIPTION:You are invited to the 3rd Annual Holiday Artisan Market\, one of Fort Wayne’s leading multi-weekend seasonal markets highlighting the region’s best handcrafted\, homemade & homegrown products. In 2023\, the market averaged over 1\,200 visitors each weekend bringing in a steady stream of patrons each Saturday & Sunday. Ft. Wayne’s Farmers Market has now moved indoors\, this will be a new aspect for not only Union Street Market\, but a new addition to our Holiday Artisan Market options. Their presence will make our retail shopping a more well-rounded experience with artisan wares\, but also produce\, plants\, meats\, baked goods & more. \n \nHoliday Artisan Market  \nWeekends 11/30-12/22 | 10AM – 4PM Saturdays & Sundays
URL:https://www.unionstreetmarket.org/event/holiday-artisan-market-24-4/2024-12-07/
LOCATION:The Arcade at Union Street Market\, 1620 Broadway\, Fort Wayne\, IN\, 46802\, United States
ATTACH;FMTTYPE=image/jpeg:https://www.unionstreetmarket.org/wp-content/uploads/2024/10/Holiday-Market.jpg
END:VEVENT
BEGIN:VEVENT
DTSTART;TZID=America/Indiana/Indianapolis:20241208T100000
DTEND;TZID=America/Indiana/Indianapolis:20241208T160000
DTSTAMP:20260421T065947
CREATED:20241107T230044Z
LAST-MODIFIED:20241107T232741Z
UID:10002437-1733652000-1733673600@www.unionstreetmarket.org
SUMMARY:Holiday Artisan Market '24
DESCRIPTION:You are invited to the 3rd Annual Holiday Artisan Market\, one of Fort Wayne’s leading multi-weekend seasonal markets highlighting the region’s best handcrafted\, homemade & homegrown products. In 2023\, the market averaged over 1\,200 visitors each weekend bringing in a steady stream of patrons each Saturday & Sunday. Ft. Wayne’s Farmers Market has now moved indoors\, this will be a new aspect for not only Union Street Market\, but a new addition to our Holiday Artisan Market options. Their presence will make our retail shopping a more well-rounded experience with artisan wares\, but also produce\, plants\, meats\, baked goods & more. \n \nHoliday Artisan Market  \nWeekends 11/30-12/22 | 10AM – 4PM Saturdays & Sundays
URL:https://www.unionstreetmarket.org/event/holiday-artisan-market-24-4/2024-12-08/
LOCATION:The Arcade at Union Street Market\, 1620 Broadway\, Fort Wayne\, IN\, 46802\, United States
ATTACH;FMTTYPE=image/jpeg:https://www.unionstreetmarket.org/wp-content/uploads/2024/10/Holiday-Market.jpg
END:VEVENT
BEGIN:VEVENT
DTSTART;TZID=America/Indiana/Indianapolis:20241211T080000
DTEND;TZID=America/Indiana/Indianapolis:20241211T170000
DTSTAMP:20260421T065947
CREATED:20241211T220324Z
LAST-MODIFIED:20241211T220735Z
UID:10002447-1733904000-1733936400@www.unionstreetmarket.org
SUMMARY:CLOSED FOR HOLIDAY | HAPPY NEW YEAR
DESCRIPTION:Union Street Market Will Be Closed \nCLOSED  1/1 New Year’s Day \nHave A Safe & Relaxing Holiday – See You Next Year!
URL:https://www.unionstreetmarket.org/event/closed-for-holiday-happy-new-year/
LOCATION:IN
ATTACH;FMTTYPE=image/jpeg:https://www.unionstreetmarket.org/wp-content/uploads/2024/12/detente-et-relaxation.jpg
END:VEVENT
BEGIN:VEVENT
DTSTART;TZID=America/Indiana/Indianapolis:20241214T100000
DTEND;TZID=America/Indiana/Indianapolis:20241214T160000
DTSTAMP:20260421T065947
CREATED:20241212T204227Z
LAST-MODIFIED:20241212T220803Z
UID:10002438-1734170400-1734192000@www.unionstreetmarket.org
SUMMARY:Holiday Artisan Market '24
DESCRIPTION:You are invited to the 3rd Annual Holiday Artisan Market\, one of Fort Wayne’s leading multi-weekend seasonal markets highlighting the region’s best handcrafted\, homemade & homegrown products. \nConfirmed vendors for 12/14/2024:\n(subject to change)\nDash of Brightness\nEllie & Erin\nEtta’s Gooey Goodies\nGolden Green Soap Co.\nHyssop and Myrrh Homestead\nK1ndgoods\nMahakare Vintage\nOld Fort Tee Co.\nPicture This in Print/The Wilson Gallery\nSol Eye Glass\nWild Unicorn Designs \n(+ 18 Ft. Wayne’s Farmers Market vendors until 1pm.) \n12/14 Activity: KID’S COLORING CONTEST \nIn 2023\, the market averaged over 1\,200 visitors each weekend bringing in a steady stream of patrons each Saturday & Sunday. Ft. Wayne’s Farmers Market has now moved indoors\, this will be a new aspect for not only Union Street Market\, but a new addition to our Holiday Artisan Market options. Their presence will make our retail shopping a more well-rounded experience with artisan wares\, but also produce\, plants\, meats\, baked goods & more. \n \nHoliday Artisan Market  \nWeekends 11/30-12/22 | 10AM – 4PM Saturdays & Sundays
URL:https://www.unionstreetmarket.org/event/holiday-artisan-market-24-4-2/
LOCATION:The Arcade at Union Street Market\, 1620 Broadway\, Fort Wayne\, IN\, 46802\, United States
ATTACH;FMTTYPE=image/jpeg:https://www.unionstreetmarket.org/wp-content/uploads/2024/10/Holiday-Market.jpg
END:VEVENT
BEGIN:VEVENT
DTSTART;TZID=America/Indiana/Indianapolis:20241215T100000
DTEND;TZID=America/Indiana/Indianapolis:20241215T160000
DTSTAMP:20260421T065947
CREATED:20241212T205931Z
LAST-MODIFIED:20241212T220952Z
UID:10002439-1734256800-1734278400@www.unionstreetmarket.org
SUMMARY:Holiday Artisan Market '24
DESCRIPTION:You are invited to the 3rd Annual Holiday Artisan Market\, one of Fort Wayne’s leading multi-weekend seasonal markets highlighting the region’s best handcrafted\, homemade & homegrown products. \nConfirmed vendors for 12/15/2024:\n(subject to change)\nDash of Brightness\nEllie & Erin\nMahakare Vintage\nOld Fort Tee Co.\nPicture This in Print/The Wilson Gallery\nSol Eye Glass \nIn 2023\, the market averaged over 1\,200 visitors each weekend bringing in a steady stream of patrons each Saturday & Sunday. Ft. Wayne’s Farmers Market has now moved indoors\, this will be a new aspect for not only Union Street Market\, but a new addition to our Holiday Artisan Market options. Their presence will make our retail shopping a more well-rounded experience with artisan wares\, but also produce\, plants\, meats\, baked goods & more. \n \nHoliday Artisan Market  \nWeekends 11/30-12/22 | 10AM – 4PM Saturdays & Sundays
URL:https://www.unionstreetmarket.org/event/holiday-artisan-market-24-4-3/
LOCATION:The Arcade at Union Street Market\, 1620 Broadway\, Fort Wayne\, IN\, 46802\, United States
ATTACH;FMTTYPE=image/jpeg:https://www.unionstreetmarket.org/wp-content/uploads/2024/10/Holiday-Market.jpg
END:VEVENT
BEGIN:VEVENT
DTSTART;TZID=America/Indiana/Indianapolis:20241221T100000
DTEND;TZID=America/Indiana/Indianapolis:20241221T160000
DTSTAMP:20260421T065947
CREATED:20241107T230044Z
LAST-MODIFIED:20241107T232741Z
UID:10002440-1734775200-1734796800@www.unionstreetmarket.org
SUMMARY:Holiday Artisan Market '24
DESCRIPTION:You are invited to the 3rd Annual Holiday Artisan Market\, one of Fort Wayne’s leading multi-weekend seasonal markets highlighting the region’s best handcrafted\, homemade & homegrown products. In 2023\, the market averaged over 1\,200 visitors each weekend bringing in a steady stream of patrons each Saturday & Sunday. Ft. Wayne’s Farmers Market has now moved indoors\, this will be a new aspect for not only Union Street Market\, but a new addition to our Holiday Artisan Market options. Their presence will make our retail shopping a more well-rounded experience with artisan wares\, but also produce\, plants\, meats\, baked goods & more. \n \nHoliday Artisan Market  \nWeekends 11/30-12/22 | 10AM – 4PM Saturdays & Sundays
URL:https://www.unionstreetmarket.org/event/holiday-artisan-market-24-4/2024-12-21/
LOCATION:The Arcade at Union Street Market\, 1620 Broadway\, Fort Wayne\, IN\, 46802\, United States
ATTACH;FMTTYPE=image/jpeg:https://www.unionstreetmarket.org/wp-content/uploads/2024/10/Holiday-Market.jpg
END:VEVENT
BEGIN:VEVENT
DTSTART;TZID=America/Indiana/Indianapolis:20241222T100000
DTEND;TZID=America/Indiana/Indianapolis:20241222T160000
DTSTAMP:20260421T065947
CREATED:20241107T230044Z
LAST-MODIFIED:20241107T232741Z
UID:10002441-1734861600-1734883200@www.unionstreetmarket.org
SUMMARY:Holiday Artisan Market '24
DESCRIPTION:You are invited to the 3rd Annual Holiday Artisan Market\, one of Fort Wayne’s leading multi-weekend seasonal markets highlighting the region’s best handcrafted\, homemade & homegrown products. In 2023\, the market averaged over 1\,200 visitors each weekend bringing in a steady stream of patrons each Saturday & Sunday. Ft. Wayne’s Farmers Market has now moved indoors\, this will be a new aspect for not only Union Street Market\, but a new addition to our Holiday Artisan Market options. Their presence will make our retail shopping a more well-rounded experience with artisan wares\, but also produce\, plants\, meats\, baked goods & more. \n \nHoliday Artisan Market  \nWeekends 11/30-12/22 | 10AM – 4PM Saturdays & Sundays
URL:https://www.unionstreetmarket.org/event/holiday-artisan-market-24-4/2024-12-22/
LOCATION:The Arcade at Union Street Market\, 1620 Broadway\, Fort Wayne\, IN\, 46802\, United States
ATTACH;FMTTYPE=image/jpeg:https://www.unionstreetmarket.org/wp-content/uploads/2024/10/Holiday-Market.jpg
END:VEVENT
BEGIN:VEVENT
DTSTART;VALUE=DATE:20241224
DTEND;VALUE=DATE:20241226
DTSTAMP:20260421T065947
CREATED:20241211T214148Z
LAST-MODIFIED:20241211T214345Z
UID:10002445-1734998400-1735171199@www.unionstreetmarket.org
SUMMARY:CLOSED FOR HOLIDAYS
DESCRIPTION:Union Street Market Will be Closed \n12/24 Christmas Eve & 12/25 Christmas Day \nWe Wish Everyone A Safe & Special Holiday! 
URL:https://www.unionstreetmarket.org/event/closed-for-holidays/
LOCATION:IN
ATTACH;FMTTYPE=image/jpeg:https://www.unionstreetmarket.org/wp-content/uploads/2024/12/R.jpg
END:VEVENT
BEGIN:VEVENT
DTSTART;TZID=America/Indiana/Indianapolis:20241231T150000
DTEND;TZID=America/Indiana/Indianapolis:20241231T233000
DTSTAMP:20260421T065947
CREATED:20241211T215744Z
LAST-MODIFIED:20241211T220854Z
UID:10002446-1735657200-1735687800@www.unionstreetmarket.org
SUMMARY:CLOSED for New Year's Eve @ 3PM
DESCRIPTION:Union Street Market Will Be Closed \n12/31 New Year’s Eve @ 3PM | CLOSED  1/1 New Year’s Day \nHave A Safe & Relaxing Holiday – See You Next Year!
URL:https://www.unionstreetmarket.org/event/closed-for-the-holidays-at-3pm/
LOCATION:IN
ATTACH;FMTTYPE=image/jpeg:https://www.unionstreetmarket.org/wp-content/uploads/2024/12/Screenshot-2024-12-11-165235.jpg
END:VEVENT
END:VCALENDAR