BEGIN:VCALENDAR
VERSION:2.0
PRODID:-//Union Street Market - ECPv6.0.12//NONSGML v1.0//EN
CALSCALE:GREGORIAN
METHOD:PUBLISH
X-ORIGINAL-URL:https://www.unionstreetmarket.org
X-WR-CALDESC:Events for Union Street Market
REFRESH-INTERVAL;VALUE=DURATION:PT1H
X-Robots-Tag:noindex
X-PUBLISHED-TTL:PT1H
BEGIN:VTIMEZONE
TZID:America/Indiana/Indianapolis
BEGIN:DAYLIGHT
TZOFFSETFROM:-0500
TZOFFSETTO:-0400
TZNAME:EDT
DTSTART:20240310T070000
END:DAYLIGHT
BEGIN:STANDARD
TZOFFSETFROM:-0400
TZOFFSETTO:-0500
TZNAME:EST
DTSTART:20241103T060000
END:STANDARD
END:VTIMEZONE
BEGIN:VEVENT
DTSTART;TZID=America/Indiana/Indianapolis:20241215T100000
DTEND;TZID=America/Indiana/Indianapolis:20241215T160000
DTSTAMP:20260421T083132
CREATED:20241212T205931Z
LAST-MODIFIED:20241212T220952Z
UID:10002439-1734256800-1734278400@www.unionstreetmarket.org
SUMMARY:Holiday Artisan Market '24
DESCRIPTION:You are invited to the 3rd Annual Holiday Artisan Market\, one of Fort Wayne’s leading multi-weekend seasonal markets highlighting the region’s best handcrafted\, homemade & homegrown products. \nConfirmed vendors for 12/15/2024:\n(subject to change)\nDash of Brightness\nEllie & Erin\nMahakare Vintage\nOld Fort Tee Co.\nPicture This in Print/The Wilson Gallery\nSol Eye Glass \nIn 2023\, the market averaged over 1\,200 visitors each weekend bringing in a steady stream of patrons each Saturday & Sunday. Ft. Wayne’s Farmers Market has now moved indoors\, this will be a new aspect for not only Union Street Market\, but a new addition to our Holiday Artisan Market options. Their presence will make our retail shopping a more well-rounded experience with artisan wares\, but also produce\, plants\, meats\, baked goods & more. \n \nHoliday Artisan Market  \nWeekends 11/30-12/22 | 10AM – 4PM Saturdays & Sundays
URL:https://www.unionstreetmarket.org/event/holiday-artisan-market-24-4-3/
LOCATION:The Arcade at Union Street Market\, 1620 Broadway\, Fort Wayne\, IN\, 46802\, United States
ATTACH;FMTTYPE=image/jpeg:https://www.unionstreetmarket.org/wp-content/uploads/2024/10/Holiday-Market.jpg
END:VEVENT
END:VCALENDAR